Workbook

Sheet Приложение 1
O1: Приложение 1 к постановлению
K2: ПРОЕКТ | N2: Администрации Одинцовского городского округа Московской области от ___________________№___________
N3: Приложение к постановлению
G4: ПРОЕКТ | N4: Администрации Одинцовского городского округа Московской области от ___________________№___________
A5: "Приложение 1 к муниципальной программе
A6: ПЕРЕЧЕНЬ МЕРОПРИЯТИЙ МУНИЦИПАЛЬНОЙ ПРОГРАММЫ ОДИНЦОВСКОГО ГОРОДСКОГО ОКРУГА МОСКОВСКОЙ ОБЛАСТИ
A7: «Развитие инженерной инфраструктуры и энергоэффективности»
A9: N п/п | B9: Мероприятие подпрограммы | C9: Срок исполнения мероприятия | D9: Источники финансирования | E9: Всего (тыс. руб.) | F9: Объем финансирования по годам (тыс. руб.) | O9: Ответственный за выполнение мероприятия программы
F10: 2026 год | K10: 2027 год | L10: 2028 год | M10: 2029 год | N10: 2030 год
A11: 1 | B11: 2 | C11: 3 | D11: 4 | E11: 5 | F11: 8 | K11: 6 | L11: 7 | M11: 8 | N11: 10 | O11: 11
A12: Подпрограмма 1 «Чистая вода»
A13: 1. | B13: Основное мероприятие 02. Строительство, реконструкция, капитальный ремонт, приобретение, монтаж и ввод в эксплуатацию объектов водоснабжения на территории муниципальных образований Московской области | C13: 2026-2030 | D13: Итого | E13: =F13+K13+L13+M13+N13 -> 4450250.4 | F13: =F14+F15+F16 -> 403088.74 | K13: =SUM(K14:K15) -> 1628883.6 | L13: =SUM(L14:L15) -> 2156633.3 | M13: =SUM(M14:M15) -> 260644.82 | N13: =SUM(N14:N15) -> 1000
D14: Средства бюджета Московской области | E14: =F14+K14+L14+M14+N14 -> 2779613.6 | F14: =F18+F24+F31+F37 -> 290515.64 | K14: =K18+K24+K31+K37 -> 985569.26 | L14: =L18+L24+L31 -> 1342029.6 | M14: =M18+M24+M31 -> 161499.08 | N14: =N18+N24+N31 -> 0
D15: Средства бюджета Одинцовского городского округа | E15: =F15+K15+L15+M15+N15 -> 1670636.8 | F15: =F19+F25+F32+F43+F38 -> 112573.1 | K15: =K19+K25+K32+K38+K43 -> 643314.29 | L15: =L19+L25+L32 -> 814603.68 | M15: =M19+M25+M32 -> 99145.74 | N15: =N19+N25+N32 -> 1000
D16: Внебюджетные источники | E16: =F16+K16+L16+M16 -> 0 | F16: =F26 -> 0 | K16: =K26 -> 0 | L16: =L26 -> 0 | M16: =M26 -> 0 | N16: =N26 -> 0
A17: 1.1. | B17: Мероприятие 02.01. Строительство и реконструкция объектов водоснабжения муниципальной собственности | C17: 2026-2030 | D17: Итого | E17: =F17+K17+L17+M17+N17 -> 3646601 | F17: ='Строительство и реконструкция'!L74 -> 219046.8 | K17: ='Строительство и реконструкция'!M74 -> 1012276.1 | L17: ='Строительство и реконструкция'!N74 -> 2155633.3 | M17: ='Строительство и реконструкция'!O74 -> 259644.82 | N17: ='Строительство и реконструкция'!P74 -> 0 | O17: Управление по строительству и модернизации объектов инженерной инфраструктуры, Территориальные управления Администрации Одинцовского городского округа (приложение 5 к муниципальной программе)
D18: Средства бюджета Московской области | E18: =F18+K18+L18+M18+N18 -> 2281644.2 | F18: ='Строительство и реконструкция'!L75 -> 141311.43 | K18: ='Строительство и реконструкция'!M75 -> 636804.14 | L18: ='Строительство и реконструкция'!N75 -> 1342029.6 | M18: ='Строительство и реконструкция'!O75 -> 161499.08 | N18: ='Строительство и реконструкция'!P75 -> 0
D19: Средства бюджета Одинцовского городского округа | E19: =F19+K19+L19+M19+N19 -> 1364956.8 | F19: ='Строительство и реконструкция'!L76 -> 77735.37 | K19: ='Строительство и реконструкция'!M76 -> 375471.98 | L19: ='Строительство и реконструкция'!N76 -> 813603.68 | M19: ='Строительство и реконструкция'!O76 -> 98145.74 | N19: ='Строительство и реконструкция'!P76 -> 0
B20: Построены и реконструированы объекты водоснабжения муниципальной собственности, ед. | C20: Х | D20: Х | E20: Всего: | F20: Итого 2026 год | G20: В том числе: | K20: 2027 год | L20: 2028 год | M20: 2029 год | N20: 2030 год
G21: 1 квартал | H21: 1 полугодие | I21: 9 месяцев | J21: 12 месяцев
E22: =F22+K22+L22+M22+N22 -> 20 | F22: =J22 -> 1 | G22: 0 | H22: 1 | I22: 1 | J22: 1 | K22: 2 | L22: 16 | M22: 1 | N22: 0
A23: 1.2. | B23: Мероприятие 02.02. Капитальный ремонт, приобретение, монтаж и ввод в эксплуатацию объектов водоснабжения муниципальной собственности | C23: 2026-2030 | D23: Итого | E23: =F23+K23+L23+M23+N23 -> 738757.57 | F23: =F24+F25+F26 -> 178041.94 | K23: ='Строительство и реконструкция'!M96 -> 560715.63 | L23: ='Строительство и реконструкция'!N96 -> 0 | M23: ='Строительство и реконструкция'!O96 -> 0 | N23: ='Строительство и реконструкция'!P96 -> 0 | O23: Управление по строительству и модернизации объектов инженерной инфраструктуры (приложение 5 к муниципальной программе)
D24: Средства бюджета Московской области | E24: =F24+K24+L24+M24+N24 -> 497969.33 | F24: ='Строительство и реконструкция'!L97 -> 149204.21 | K24: ='Строительство и реконструкция'!M97 -> 348765.12 | L24: ='Строительство и реконструкция'!N97 -> 0 | M24: ='Строительство и реконструкция'!O97 -> 0 | N24: ='Строительство и реконструкция'!P97 -> 0
D25: Средства бюджета Одинцовского городского округа | E25: =F25+K25+L25+M25+N25 -> 240788.24 | F25: ='Строительство и реконструкция'!L98 -> 28837.73 | K25: ='Строительство и реконструкция'!M98 -> 211950.51 | L25: ='Строительство и реконструкция'!N98 -> 0 | M25: ='Строительство и реконструкция'!O98 -> 0 | N25: ='Строительство и реконструкция'!P98 -> 0
D26: Внебюджетные источники | E26: =F26+K26+L26+M26+N26 -> 0 | F26: 0 | K26: 0 | L26: 0 | M26: 0 | N26: 0
B27: Приобретено и введено в эксплуатацию, капитально отремонтировано объектов водоснабжения муниципальной собственности, ед. | C27: Х | D27: Х | E27: Всего: | F27: Итого 2026 год | G27: В том числе: | K27: 2027 год | L27: 2028 год | M27: 2029 год | N27: 2030 год
G28: 1 квартал | H28: 1 полугодие | I28: 9 месяцев | J28: 12 месяцев
E29: =F29+K29+L29+M29+N29 -> 6 | F29: =G29+H29+J29 -> 1 | G29: 0 | H29: 0 | I29: 0 | J29: 1 | K29: 5 | L29: 0 | M29: 0 | N29: 0
A30: 1.3. | B30: Мероприятие 02.06. Содержание и ремонт шахтных колодцев | C30: 2026-2030 | D30: Итого: | E30: =F30+K30+L30+M30+N30 -> 5000 | F30: =F31+F32 -> 1000 | K30: =K31+K32 -> 1000 | L30: =L31+L32 -> 1000 | M30: =M31+M32 -> 1000 | N30: =N31+N32 -> 1000 | O30: Управление жилищно-коммунального хозяйства, Территориальные управления Администрации Одинцовского городского округа
D31: Средства бюджета Московской области | E31: =F31+K31+L31+M31+N31 -> 0 | F31: 0 | K31: 0 | L31: 0 | M31: 0 | N31: 0
D32: Средства бюджета Одинцовского городского округа | E32: =F32+K32+L32+M32+N32 -> 5000 | F32: 1000 | K32: 1000 | L32: 1000 | M32: 1000 | N32: 1000
B33: Количество отремонтированных шахтных колодцев, ед. | C33: Х | D33: Х | E33: Всего: | F33: Итого 2026 год | G33: В том числе: | K33: 2027 год | L33: 2028 год | M33: 2029 год | N33: 2030 год
G34: 1 квартал | H34: 1 полугодие | I34: 9 месяцев | J34: 12 месяцев
E35: =F35+K35+L35+M35+N35 -> 100 | F35: 20 | G35: 0 | H35: 0 | I35: 0 | J35: 20 | K35: 20 | L35: 20 | M35: 20 | N35: 20
A36: 1.4. | B36: Мероприятие 02.08 ‒ Аварийно-восстановительные работы на объектах и (или) сетях водоснабжения муниципальной собственности | C36: 2026-2030 | D36: Итого: | E36: =F36+K36+L36+M36+N36 -> 0 | F36: =F37+F38 -> 0 | K36: =K37+K38 -> 0 | L36: =L37+L38 -> 0 | M36: =M37+M38 -> 0 | N36: =N37+N38 -> 0 | O36: Управление жилищно-коммунального хозяйства
D37: Средства бюджета Московской области | E37: =F37+K37+L37+M37+N37 -> 0 | F37: 0 | K37: 0 | L37: 0 | M37: 0 | N37: 0
D38: Средства бюджета Одинцовского городского округа | E38: =F38+K38+L38+M38+N38 -> 0 | F38: 0 | K38: 0 | L38: 0 | M38: 0 | N38: 0
B39: Выполнены аварийно-восстановительные работы на объектах и (или) участках сетей водоснабжения, ед. | C39: Х | D39: Х | E39: Всего: | F39: Итого 2026 год | G39: В том числе: | K39: 2027 год | L39: 2028 год | M39: 2029 год | N39: 2030 год
G40: 1 квартал | H40: 1 полугодие | I40: 9 месяцев | J40: 12 месяцев
E41: =F41+K41+L41+M41+N41 -> 0 | F41: 0 | G41: 0 | H41: 0 | I41: 0 | J41: 0 | K41: 0 | L41: 0 | M41: 0 | N41: 0
...

Sheet Строительство и реконструкция
J1: ПРОЕКТ | P1: Приложение 2 к постановлению
P2: Администрации Одинцовского городского округа Московской области от ______________________№____________
P3: Приложение 2 к постановлению
J4: ПРОЕКТ | P4: Администрации Одинцовского городского округа Московской области от ______________________№____________
R5: "Приложение 5
P6: к муниципальной программе
C7: АДРЕСНЫЙ ПЕРЕЧЕНЬ ПО СТРОИТЕЛЬСТВУ И РЕКОНСТРУКЦИИ ОБЪЕКТОВ МУНИЦИПАЛЬНОЙ СОБСТВЕННОСТИ ОДИНЦОВСКОГО ГОРОДСКОГО ОКРУГА МОСКОВСКОЙ ОБЛАСТИ, ФИНАНСИРОВАНИЕ КОТОРЫХ ПРЕДУСМОТРЕНО МУНИЦИПАЛЬНОЙ ПРОГРАММОЙ «Развитие инженерной инфраструктуры и энергоэффективности»
A9: № п/п | B9: Наименование объекта, сведения о регистрации права собственности | C9: Мощность/ прирост мощности объекта (кв. метр, погонный метр, место, койко-место и т.д.) | D9: Адрес объекта | E9: Направление инвестирования | F9: Сроки проведения работ по проектированию, строитнельству,/реконструкции объектов (дд.мм.гг-дд.мм.гг) | G9: Открытие объекта/завершение работ (дд.мм.гг) | H9: Предельная стоимость объекта (тыс.руб.) | I9: Профинансировано на 01.01.2026, тыс.руб. | J9: Источники финансирования | K9: Финансирование (тыс.руб.) | Q9: Остаток сметной стоимости до ввода в эксплуатацию, тыс.руб. | R9: Наименование главного распорядителя средств бюджета Одинцовского городского округа
K10: Всего | L10: 2026 год | M10: 2027 год | N10: 2028 год | O10: 2029 год | P10: 2030 год
A11: 1 | B11: 2 | C11: 3 | D11: 4 | E11: 5 | F11: 6 | G11: 7 | H11: 8 | I11: 9 | J11: 10 | K11: 11 | L11: 12 | M11: 13 | N11: 14 | O11: 15 | P11: 16 | Q11: 17 | R11: 18
A12: Подпрограмма 1 «Чистая вода»
A13: Мероприятие 02.01. Строительство и реконструкция объектов водоснабжения муниципальной собственности
A14: 1 | B14: Реконструкция ВЗУ с. Каринское, Одинцовский г.о. (в т.ч. ПИР) | C14: 600 куб.м/сутки | D14: Московская область, Одинцовский г.о., с. Каринское | E14: Реконструкция (в т.ч. проектные и изыскательские работы) | F14: 20.01.2022-31.05.2026 | G14: 46174 | H14: 141045.99 | I14: =I15+I16 -> 59559.483 | J14: Итого: | K14: =L14+M14+N14+O14+P14 -> 81196.73 | L14: =L15+L16 -> 81196.73 | M14: 0 | N14: 0 | O14: =O15+O16 -> 0 | P14: =P15+P16 -> 0 | Q14: 0 | R14: Администрация Одинцовского городского округа
I15: =5295.71844+600.48219+25349.99185+3905.96181 -> 35152.154 | J15: Средстава бюджета Московской области | K15: =L15+M15+N15+O15+P15 -> 47418.89 | L15: 47418.89 | M15: 0 | N15: 0 | O15: 0 | P15: 0 | Q15: 0
I16: =3177.43106+360.28931+18087.28+2782.32815 -> 24407.329 | J16: Средства бюджета Одинцовского городского округа | K16: =L16+M16+N16+O16+P16 -> 33777.84 | L16: 33777.84 | M16: 0 | N16: 0 | O16: 0 | P16: 0 | Q16: 0
A17: 2 | B17: Реконструкция ВЗУ №5, расположенного по адресу: Московская область, Одинцовский г.о., р.п. Большие Вяземы, ул. Институт, корпус Б | C17: 3840 куб.м/сутки | D17: Московской области, Одинцовский г.о., р.п. Большие Вяземы, ул. Институт, корпус Б | E17: Реконструкция | F17: 20.01.2028-29.11.2028 | G17: 47087 | H17: =K17 -> 127886.94 | I17: 0 | J17: Итого: | K17: =L17+M17+N17+O17+P17 -> 127886.94 | L17: 0 | M17: 0 | N17: =N18+N19 -> 127886.94 | O17: 0 | P17: 0 | Q17: 0 | R17: Администрация Одинцовского городского округа
I18: 0 | J18: Средстава бюджета Московской области | K18: =L18+M18+N18+O18+P18 -> 79545.67 | L18: 0 | M18: 0 | N18: 79545.67 | O18: 0 | P18: 0 | Q18: 0
I19: 0 | J19: Средства бюджета Одинцовского городского округа | K19: =L19+M19+N19+O19+P19 -> 48341.27 | L19: 0 | M19: 0 | N19: 48341.27 | O19: 0 | P19: 0 | Q19: 0
A20: 3 | B20: Реконструкция ВЗУ г. Кубинка Одинцовский городской округ | C20: 1200 куб.м/сутки | D20: Московской области, Одинцовский г.о., г. Кубинка | E20: Реконструкция | F20: 20.01.2028-29.11.2028 | G20: 47087 | H20: =K20 -> 17970.64 | I20: 0 | J20: Итого: | K20: =L20+M20+N20+O20+P20 -> 17970.64 | L20: 0 | M20: 0 | N20: =N21+N22 -> 17970.64 | O20: 0 | P20: 0 | Q20: 0 | R20: Администрация Одинцовского городского округа
I21: 0 | J21: Средстава бюджета Московской области | K21: =L21+M21+N21+O21+P21 -> 11177.73 | L21: 0 | M21: 0 | N21: 11177.73 | O21: 0 | P21: 0 | Q21: 0
I22: 0 | J22: Средства бюджета Одинцовского городского округа | K22: =L22+M22+N22+O22+P22 -> 6792.91 | L22: 0 | M22: 0 | N22: 6792.91 | O22: 0 | P22: 0 | Q22: 0
A23: 4 | B23: Реконструкция ВЗУ д. Дунино Одинцовский городской округ | C23: 412 куб.м/сутки | D23: Московской области, Одинцовский г.о., д. Дунино | E23: Реконструкция | F23: 20.01.2028-29.11.2028 | G23: 47087 | H23: =K23 -> 86166 | I23: 0 | J23: Итого: | K23: =L23+M23+N23+O23+P23 -> 86166 | L23: 0 | M23: 0 | N23: =N24+N25 -> 86166 | O23: 0 | P23: 0 | Q23: 0 | R23: Администрация Одинцовского городского округа
I24: 0 | J24: Средстава бюджета Московской области | K24: =L24+M24+N24+O24+P24 -> 53595.25 | L24: 0 | M24: 0 | N24: 53595.25 | O24: 0 | P24: 0 | Q24: 0
I25: 0 | J25: Средства бюджета Одинцовского городского округа | K25: =L25+M25+N25+O25+P25 -> 32570.75 | L25: 0 | M25: 0 | N25: 32570.75 | O25: 0 | P25: 0 | Q25: 0
A26: 5 | B26: Реконструкция ВЗУ-10 Одинцовский городской округ | C26: 4800 куб.м/сутки | D26: Московская область, г.Одинцово, ул. Сосновая | E26: Реконструкция | F26: 20.01.2028-29.11.2028 | G26: 47087 | H26: =K26 -> 135295 | I26: 0 | J26: Итого: | K26: =L26+M26+N26+O26+P26 -> 135295 | L26: 0 | M26: 0 | N26: =N27+N28 -> 135295 | O26: 0 | P26: 0 | Q26: 0 | R26: Администрация Одинцовского городского округа
I27: 0 | J27: Средстава бюджета Московской области | K27: =L27+M27+N27+O27+P27 -> 84153.49 | L27: 0 | M27: 0 | N27: 84153.49 | O27: 0 | P27: 0 | Q27: 0
I28: 0 | J28: Средства бюджета Одинцовского городского округа | K28: =L28+M28+N28+O28+P28 -> 51141.51 | L28: 0 | M28: 0 | N28: 51141.51 | O28: 0 | P28: 0 | Q28: 0
A29: 6 | B29: Реконструкция ВЗУ №6 Одинцовский городской округ | C29: 3900 куб.м/сутки | D29: Московская область, г. Одинцово, ул. Садовая, 24 | E29: Реконструкция | F29: 20.01.2028-29.11.2028 | G29: 47087 | H29: =K29 -> 77000 | I29: 0 | J29: Итого: | K29: =L29+M29+N29+O29+P29 -> 77000 | L29: 0 | M29: 0 | N29: =N30+N31 -> 77000 | O29: 0 | P29: 0 | Q29: 0 | R29: Администрация Одинцовского городского округа
I30: 0 | J30: Средстава бюджета Московской области | K30: =L30+M30+N30+O30+P30 -> 47894 | L30: 0 | M30: 0 | N30: 47894 | O30: 0 | P30: 0 | Q30: 0
I31: 0 | J31: Средства бюджета Одинцовского городского округа | K31: =L31+M31+N31+O31+P31 -> 29106 | L31: 0 | M31: 0 | N31: 29106 | O31: 0 | P31: 0 | Q31: 0
A32: 7 | B32: Реконструкция ВЗУ №9 Одинцовский городской округ | C32: 4080 куб.м/сутки | D32: Московская область, г.Одинцово, Подушкинское шоссе, 19 | E32: Реконструкция | F32: 20.01.2028-29.11.2028 | G32: 47087 | H32: =K32 -> 77000 | I32: 0 | J32: Итого: | K32: =L32+M32+N32+O32+P32 -> 77000 | L32: 0 | M32: 0 | N32: =N33+N34 -> 77000 | O32: 0 | P32: 0 | Q32: 0 | R32: Администрация Одинцовского городского округа
I33: 0 | J33: Средстава бюджета Московской области | K33: =L33+M33+N33+O33+P33 -> 47894 | L33: 0 | M33: 0 | N33: 47894 | O33: 0 | P33: 0 | Q33: 0
I34: 0 | J34: Средства бюджета Одинцовского городского округа | K34: =L34+M34+N34+O34+P34 -> 29106 | L34: 0 | M34: 0 | N34: 29106 | O34: 0 | P34: 0 | Q34: 0
A35: 8 | B35: Реконструкция ВЗУ №1 р.п. Большие Вяземы, Одинцовский г.о. | C35: 2150 куб.м/сутки | D35: Московская область, Одинцовский г.о., п.Большие Вяземы | E35: Реконструкция | F35: 20.01.2028-29.11.2028 | G35: 47087 | H35: =K35 -> 58000 | I35: 0 | J35: Итого | K35: =L35+M35+N35+O35+P35 -> 58000 | L35: 0 | M35: 0 | N35: =N36+N37 -> 58000 | O35: 0 | P35: 0 | Q35: 0 | R35: Администрация Одинцовского городского округа
I36: 0 | J36: Средства бюджета Московской области | K36: =L36+M36+N36+O36+P36 -> 36076 | L36: 0 | M36: 0 | N36: 36076 | O36: 0 | P36: 0 | Q36: 0
I37: 0 | J37: Средства бюджета Одинцовского городского округа | K37: =L37+M37+N37+O37+P37 -> 21924 | L37: 0 | M37: 0 | N37: 21924 | O37: 0 | P37: 0 | Q37: 0
A38: 9 | B38: Реконструкция ВЗУ -2 г.п. Большие Вяземы, Одинцовский г.о. | C38: 1750 тыс.куб.м/сутки | D38: Московская область, Одинцовский г.о., п.Большие Вяземы | E38: Реконструкция | F38: 20.01.2028-29.11.2028 | G38: 47087 | H38: =K38 -> 70150.33 | I38: 0 | J38: Итого | K38: =L38+M38+N38+O38+P38 -> 70150.33 | L38: 0 | M38: 0 | N38: =N39+N40 -> 70150.33 | O38: 0 | P38: 0 | Q38: 0 | R38: Администрация Одинцовского городского округа
I39: 0 | J39: Средства бюджета Московской области | K39: =L39+M39+N39+O39+P39 -> 43633.5 | L39: 0 | M39: 0 | N39: 43633.5 | O39: 0 | P39: 0 | Q39: 0
I40: 0 | J40: Средства бюджета Одинцовского городского округа | K40: =L40+M40+N40+O40+P40 -> 26516.83 | L40: 0 | M40: 0 | N40: 26516.83 | O40: 0 | P40: 0 | Q40: 0
A41: 10 | B41: Реконструкция водозаборного узла на территории пос. Барвиха (в т.ч. ПИР) | C41: 3500 куб.м/сутки | D41: Московская область, Одинцовский г.о., пос. Барвиха | E41: Реконструкция (в т.ч. проектные и изыскательские работы) | F41: 20.01.2026-29.11.2028 | G41: 47087 | H41: =K41 -> 255000 | I41: =I42+I43 -> 0 | J41: Итого: | K41: =L41+M41+N41+O41+P41 -> 255000 | L41: =L42+L43 -> 0 | M41: =M42+M43 -> 72743.58 | N41: =N42+N43 -> 182256.42 | O41: 0 | P41: 0 | Q41: 0 | R41: Администрация Одинцовского городского округа
...

Sheet Капитальный ремонт
K1: Приложение 3 к постановлению
J2: Администрации Одинцовского городского округа Московской области от __________________ №________
K3: Приложение 3 к постановлению
E4: ПРОЕКТ | J4: Администрации Одинцовского городского округа Московской области от __________________ №________
A5: "Приложение 6 к муниципальной программе
A7: Адресный перечень по капитальному ремонту объектов инженерной инфраструктуры в рамках реализации мероприятий муниципальной программы Одинцовского городского округа Московской области «Развитие инженерной инфраструктуры и энергоэффективности»
A9: N п/п | B9: Мероприятие подпрограммы | C9: Срок исполнения мероприятия | D9: Источники финансирования | E9: Всего (тыс. руб.) | F9: Объем финансирования по годам (тыс. руб.) | K9: Ответственный за выполнение мероприятия программы
F10: 2026 год | G10: 2027 год | H10: 2028 год | I10: 2029 год | J10: 2030 год
A11: 1 | B11: 2 | C11: 3 | D11: 4 | E11: 5 | F11: 6 | G11: 7 | H11: 8 | I11: 9 | J11: 10 | K11: 11
A12: Подпрограмма 2 «Системы водоотведения»
A13: Мероприятие 01.02 - Капитальный ремонт, приобретение, монтаж и ввод в эксплуатацию объектов очистки сточных вод муниципальной собственности
B14: Итого по мероприятияю: | D14: Итого: | E14: =+E17 -> 212000 | F14: =F15+F16 -> 212000 | G14: =G15+G16 -> 0 | H14: =H15+H16 -> 0 | I14: =I15+I16 -> 0 | J14: =J15+J16 -> 0
D15: Средства бюджета Московской области | E15: =E18 -> 131864 | F15: =F18 -> 131864 | G15: =G18 -> 0 | H15: =H18 -> 0 | I15: =I18 -> 0 | J15: =J18 -> 0
D16: Средства бюджета Одинцовского городского округа | E16: =E19 -> 80136 | F16: =F19 -> 80136 | G16: =G19 -> 0 | H16: =H19 -> 0 | I16: =I19 -> 0 | J16: =J19 -> 0
A17: 1 | B17: Приобретение монтаж и ввод в эксплуатацию блочно-модульных очистных сооружений мощностью 350 м3/сут. по адресу: Московская область, Одинцовской г.о., д. Липки | C17: 20.01.2026-29.06.2026 | D17: Итого: | E17: =E19+E18 -> 212000 | F17: =F18+F19 -> 212000 | G17: =G19 -> 0 | H17: =H19 -> 0 | I17: 0 | J17: =J19 -> 0 | K17: Управление по строительству и модернизации объектов инженерной инфраструктуры
D18: Средства бюджета Московской области | E18: =I18+H18+G18+F18 -> 131864 | F18: 131864 | G18: 0 | H18: 0 | I18: 0 | J18: 0
D19: Средства бюджета Одинцовского городского округа | E19: =F19+G19+H19+I19+J19 -> 80136 | F19: 80136 | G19: 0 | H19: 0 | I19: 0 | J19: 0
A20: Мероприятие 01.13. Капитальный ремонт, приобретение, монтаж и ввод в эксплуатацию объектов очистки сточных вод муниципальной собственности за счет средств местного бюджета
B21: Итого по мероприятияю: | D21: Итого: | E21: =+E23 -> 47838 | F21: =+F23 -> 47838 | G21: =+G23 -> 0 | H21: =+H23 -> 0 | I21: =+I23 -> 0 | J21: =+J23 -> 0
D22: Средства бюджета Одинцовского городского округа | E22: =E24 -> 47838 | F22: =F24 -> 47838 | G22: =G24 -> 0 | H22: =H24 -> 0 | I22: =I24 -> 0 | J22: =J24 -> 0
A23: 1 | B23: Поставка и монтаж очистного сооружения биологической очистки хоз-бытовых стоков д. Фуньково | C23: 20.03.2026-31.12.2026 | D23: Итого: | E23: =E24 -> 47838 | F23: =F24 -> 47838 | G23: =G24 -> 0 | H23: =H24 -> 0 | I23: =I24 -> 0 | J23: =J24 -> 0 | K23: Управление по строительству и модернизации объектов инженерной инфраструктуры
D24: Средства бюджета Одинцовского городского округа | E24: =F24+G24+H24+I24+J24 -> 47838 | F24: 47838 | G24: 0 | H24: 0 | I24: 0 | J24: 0
A25: Подпрограмма 3 «Объекты теплоснабжения, инженерные коммуникации»
A26: Мероприятие 01.13 – Реализация мероприятий по капитальному ремонту объектов теплоснабжения (в том числе технологическое присоединение при переводе котельных с 3 на 2 категорию надежности электроснабжения)
B27: Итого по мероприятияю: | D27: Итого: | E27: =E28+E29 -> 10268.39 | F27: =F28+F29 -> 7061.11 | G27: =G28+G29 -> 3207.28 | H27: =H28+H29 -> 0 | I27: =I28+I29 -> 0 | J27: =J28+J29 -> 0
D28: Средства бюджета Московской области | E28: =E40+E31+E34+E37 -> 5108.62 | F28: =F40+F31+F34+F37 -> 3348.46 | G28: =G40+G31+G34+G37 -> 1760.16 | H28: =H40+H31+H34+H37 -> 0 | I28: =I40+I31+I34+I37 -> 0 | J28: =J40 -> 0
D29: Средства бюджета Одинцовского городского округа | E29: =E41+E32+E35+E38 -> 5159.77 | F29: =F32+F35+F38+F41 -> 3712.65 | G29: =G41+G32+G35+G38 -> 1447.12 | H29: =H41+H32+H35+H38 -> 0 | I29: =I41+I32+I35+I38 -> 0 | J29: =J41 -> 0
A30: 1 | B30: Перевод с 3 на 2 категорию надежности электроснабжения объекта: котельная, Одинцовский г.о., г. Звенигород, Нахабинское ш., д. 2 | C30: 18.11.2024-14.10.2027 | D30: Итого: | E30: =F30+G30+H30+I30+J30 -> 3207.28 | F30: =F31+F32 -> 0 | G30: =G31+G32 -> 3207.28 | H30: =H31+H32 -> 0 | I30: =I31+I32 -> 0 | J30: =J31+J32 -> 0 | K30: Управление по строительству и модернизации объектов инженерной инфраструктуры
D31: Средства бюджета Московской области | E31: =F31+G31+H31+I31+J31 -> 1760.16 | F31: 0 | G31: 1760.16 | H31: 0 | I31: 0 | J31: 0
D32: Средства бюджета Одинцовского городского округа | E32: =F32+G32+H32+I32+J32 -> 1447.12 | F32: 0 | G32: 1447.12 | H32: 0 | I32: 0 | J32: 0
A33: 2 | B33: Перевод с 3 на 2 категорию надежности электроснабжения объекта: котельная, Одинцовский г.о., г. Звенигород, Ветеранов проезд | C33: 18.11.2024-14.10.2026 | D33: Итого: | E33: =F33+G33+H33+I33+J33 -> 30.23 | F33: =F34+F35 -> 30.23 | G33: =G34+G35 -> 0 | H33: =H34+H35 -> 0 | I33: =I34+I35 -> 0 | J33: =J34+J35 -> 0 | K33: Управление по строительству и модернизации объектов инженерной инфраструктуры
D34: Средства бюджета Московской области | E34: =F34+G34+H34+I34+J34 -> 18.64 | F34: 18.64 | G34: 0 | H34: 0 | I34: 0 | J34: 0
D35: Средства бюджета Одинцовского городского округа | E35: =F35+G35+H35+I35+J35 -> 11.59 | F35: 11.59 | G35: 0 | H35: 0 | I35: 0 | J35: 0
A36: 3 | B36: Перевод с 3 на 2 категорию надежности электроснабжения объекта: котельная, Одинцовский г.о., г. Звенигород, ул. Лермонтова, 6 | C36: 18.11.2024-14.10.2026 | D36: Итого: | E36: =F36+G36+H36+I36+J36 -> 144.02 | F36: =F37+F38 -> 144.02 | G36: =G37+G38 -> 0 | H36: =H37+H38 -> 0 | I36: =I37+I38 -> 0 | J36: =J37+J38 -> 0 | K36: Управление по строительству и модернизации объектов инженерной инфраструктуры
D37: Средства бюджета Московской области | E37: =F37+G37+H37+I37+J37 -> 68.21 | F37: 68.21 | G37: 0 | H37: 0 | I37: 0 | J37: 0
D38: Средства бюджета Одинцовского городского округа | E38: =F38+G38+H38+I38+J38 -> 75.81 | F38: 75.81 | G38: 0 | H38: 0 | I38: 0 | J38: 0
A39: 4 | B39: Перевод с 3 на 2 категорию надежности электроснабжения объекта: котельная, Одинцовский г.о., г. Звенигород, ул. Ленина 30 | C39: 18.11.2024-14.10.2026 | D39: Итого: | E39: =F39+G39+H39+I39+J39 -> 6886.86 | F39: =F40+F41 -> 6886.86 | G39: =G40+G41 -> 0 | H39: =H40+H41 -> 0 | I39: =I40+I41 -> 0 | J39: =J40+J41 -> 0 | K39: Управление по строительству и модернизации объектов инженерной инфраструктуры
D40: Средства бюджета Московской области | E40: =F40+G40+H40+I40+J40 -> 3261.61 | F40: 3261.61 | G40: 0 | H40: 0 | I40: 0 | J40: 0
D41: Средства бюджета Одинцовского городского округа | E41: =F41+G41+H41+I41+J41 -> 3625.25 | F41: 3625.25 | G41: 0 | H41: 0 | I41: 0 | J41: 0
A42: Мероприятие 02.02 – Капитальный ремонт сетей водоснабжения, водоотведения
...

Sheet Обеспечивающая подпрограмма
K1: Приложение 3 к постановлению
J2: Администрации Одинцовского городского округа Московской области от __________________ №________
K3: Приложение 4 к постановлению
J4: Администрации Одинцовского городского округа Московской области от __________________ №________
A5: "Приложение 7 к муниципальной программе
A7: Перечень мероприятий, реализуемых в рамках подпрограммы 7 «Обеспечивающая подпрограмма» муниципальной программы Одинцовского городского округа Московской области «Развитие инженерной инфраструктуры и энергоэффективности»
A9: N п/п | B9: Мероприятие подпрограммы | C9: Срок исполнения мероприятия | D9: Источники финансирования | E9: Всего (тыс. руб.) | F9: Объем финансирования по годам (тыс. руб.) | K9: Ответственный за выполнение мероприятия программы
F10: 2026 год | G10: 2027 год | H10: 2028 год | I10: 2029 год | J10: 2030 год
A11: 1 | B11: 2 | C11: 3 | D11: 4 | E11: 5 | F11: 6 | G11: 7 | H11: 8 | I11: 9 | J11: 10 | K11: 11
A12: Мероприятие 01.03. Организация в границах муниципального образования электро-, тепло-, газо- и водоснабжения населения, водоотведения, снабжения населения топливом
B13: Итого по мероприятияю: | D13: Итого: | E13: =E15+E14 -> 24495 | F13: =F14+F15 -> 17891 | G13: =G14+G15 -> 1651 | H13: =H14+H15 -> 1651 | I13: =I14+I15 -> 1651 | J13: =J14+J15 -> 1651
D14: Средства бюджета Одинцовского городского округа | E14: =E17+E19 -> 8995 | F14: =F17+F19 -> 2391 | G14: =G17+G19 -> 1651 | H14: =H17+H19 -> 1651 | I14: =I17+I19 -> 1651 | J14: =J17+J19 -> 1651
D15: Внебюджетные источники | E15: =E21+E23+E25+E27+E29+E31+E33+E35 -> 15500 | F15: =F29+F31+F33+F35+F21+F23+F25+F27 -> 15500 | G15: =G29+G31+G33+G35 -> 0 | H15: =H29+H31+H33+H35 -> 0 | I15: =I29+I31+I33+I35 -> 0 | J15: =J29+J31+J33+J35 -> 0
A16: 1 | B16: Поставка воды для водопроводных колонок общего пользования Одинцовского городского округа | C16: 01.01.2026-31.12.2026 | D16: Итого: | E16: =E17 -> 8255 | F16: =F17 -> 1651 | G16: =G17 -> 1651 | H16: =H17 -> 1651 | I16: =I17 -> 1651 | J16: =J17 -> 1651 | K16: Управление жилищно-коммунального хозяйства
D17: Средства бюджета Одинцовского городского округа | E17: =F17+G17+H17+I17+J17 -> 8255 | F17: 1651 | G17: 1651 | H17: 1651 | I17: 1651 | J17: 1651
A18: 2 | B18: Демонтаж, вывоз и утилизация опор | C18: 01.01.2026-31.12.2026 | D18: Итого: | E18: =E19 -> 740 | F18: =F19 -> 740 | G18: =G19 -> 0 | H18: =H19 -> 0 | I18: =I19 -> 0 | J18: =J19 -> 0 | K18: Управление жилищно-коммунального хозяйства
D19: Средства бюджета Одинцовского городского округа | E19: =F19+G19+H19+I19+J19 -> 740 | F19: 740 | G19: 0 | H19: 0 | I19: 0 | J19: 0
A20: 3 | B20: Строительство ливневых очистных сооружения (ЛОС), расположенных по адресу: Московская область, Одинцовский г.о., д. Маслово | C20: 01.07.2026-31.12.2026 | D20: Итого: | E20: =E21 -> 3400 | F20: =F21 -> 3400 | G20: =G21 -> 0 | H20: =H21 -> 0 | I20: =I21 -> 0 | J20: =J21 -> 0 | K20: Управление по строительству и модернизации объектов инженерной инфраструктуры
D21: Внебюджетные источники | E21: =F21+G21+H21+I21+J21 -> 3400 | F21: 3400 | G21: 0 | H21: 0 | I21: 0 | J21: 0
A22: 4 | B22: Строительство хозяйственно-питьевого водопровода, расположенного по адресу: Московская область, Одинцовский г.о., д. Маслово | C22: 01.07.2026-31.12.2026 | D22: Итого: | E22: =E23 -> 1200 | F22: =F23 -> 1200 | G22: =G23 -> 0 | H22: =H23 -> 0 | I22: =I23 -> 0 | J22: =J23 -> 0 | K22: Управление по строительству и модернизации объектов инженерной инфраструктуры
D23: Внебюджетные источники | E23: =F23+G23+H23+I23+J23 -> 1200 | F23: 1200 | G23: 0 | H23: 0 | I23: 0 | J23: 0
A24: 5 | B24: Строительство хозяйственно-фекальной канализации, расположенной по адресу: Московская область, Одинцовский г.о., д. Маслово | C24: 01.07.2026-31.12.2026 | D24: Итого: | E24: =E25 -> 1800 | F24: =F25 -> 1800 | G24: =G25 -> 0 | H24: =H25 -> 0 | I24: =I25 -> 0 | J24: =J25 -> 0 | K24: Управление по строительству и модернизации объектов инженерной инфраструктуры
D25: Внебюджетные источники | E25: =F25+G25+H25+I25+J25 -> 1800 | F25: 1800 | G25: 0 | H25: 0 | I25: 0 | J25: 0
A26: 6 | B26: Строительство канализационно-насосной станции (КНС), расположенной по адресу: Московская область, Одинцовский г.о., д. Маслово | C26: 01.07.2026-31.12.2026 | D26: Итого: | E26: =E27 -> 2300 | F26: =F27 -> 2300 | G26: =G27 -> 0 | H26: =H27 -> 0 | I26: =I27 -> 0 | J26: =J27 -> 0 | K26: Управление по строительству и модернизации объектов инженерной инфраструктуры
D27: Внебюджетные источники | E27: =F27+G27+H27+I27+J27 -> 2300 | F27: 2300 | G27: 0 | H27: 0 | I27: 0 | J27: 0
A28: 7 | B28: Строительство подземной электрической кабельной линии 0,4 кВ (ВРУ), расположенной по адресу: Московская область, Одинцовский г.о., д. Маслово | C28: 01.07.2026-31.12.2026 | D28: Итого: | E28: =E29 -> 1500 | F28: =F29 -> 1500 | G28: =G29 -> 0 | H28: =H29 -> 0 | I28: =I29 -> 0 | J28: =J29 -> 0 | K28: Управление по строительству и модернизации объектов инженерной инфраструктуры
D29: Внебюджетные источники | E29: =F29+G29+H29+I29+J29 -> 1500 | F29: 1500 | G29: 0 | H29: 0 | I29: 0 | J29: 0
A30: 8 | B30: Строительство электрического вводно-распределительного устройства 0,4 кВ (ВРУ), расположенного по адресу: Московская область, Одинцовский г.о., д. Маслово | C30: 01.07.2026-31.12.2026 | D30: Итого: | E30: =E31 -> 1100 | F30: =F31 -> 1100 | G30: =G31 -> 0 | H30: =H31 -> 0 | I30: =I31 -> 0 | J30: =J31 -> 0 | K30: Управление по строительству и модернизации объектов инженерной инфраструктуры
D31: Внебюджетные источники | E31: =F31+G31+H31+I31+J31 -> 1100 | F31: 1100 | G31: 0 | H31: 0 | I31: 0 | J31: 0
A32: 9 | B32: Установка слаботочного распределительного шкафа, расположенного по адресу: Московская область, Одинцовский г.о., д. Маслово | C32: 01.07.2026-31.12.2026 | D32: Итого: | E32: =E33 -> 1400 | F32: =F33 -> 1400 | G32: =G33 -> 0 | H32: =H33 -> 0 | I32: =I33 -> 0 | J32: =J33 -> 0 | K32: Управление по строительству и модернизации объектов инженерной инфраструктуры
D33: Внебюджетные источники | E33: =F33+G33+H33+I33+J33 -> 1400 | F33: 1400 | G33: 0 | H33: 0 | I33: 0 | J33: 0
A34: 10 | B34: Строительство газового распределительного пункта (ГПР), расположенного по адресу: Московская область, Одинцовский г.о., д. Маслово | C34: 01.07.2026-31.12.2026 | D34: Итого: | E34: =E35 -> 2800 | F34: =F35 -> 2800 | G34: =G35 -> 0 | H34: =H35 -> 0 | I34: =I35 -> 0 | J34: =J35 -> 0 | K34: Управление по строительству и модернизации объектов инженерной инфраструктуры
D35: Внебюджетные источники | E35: =F35+G35+H35+I35+J35 -> 2800 | F35: 2800 | G35: 0 | H35: 0 | I35: 0 | J35: 0
K36: ".
B37: Заместитель Главы Одинцовского городского округа | K37: М.В. Коротаев
